BEGIN:VCALENDAR
VERSION:2.0
PRODID:-//Carers Victoria - ECPv6.15.11//NONSGML v1.0//EN
CALSCALE:GREGORIAN
METHOD:PUBLISH
X-WR-CALNAME:Carers Victoria
X-ORIGINAL-URL:https://carersvictoria.org.au
X-WR-CALDESC:Events for Carers Victoria
REFRESH-INTERVAL;VALUE=DURATION:PT1H
X-Robots-Tag:noindex
X-PUBLISHED-TTL:PT1H
BEGIN:VTIMEZONE
TZID:Australia/Melbourne
BEGIN:STANDARD
TZOFFSETFROM:+1100
TZOFFSETTO:+1000
TZNAME:AEST
DTSTART:20250405T160000
END:STANDARD
BEGIN:DAYLIGHT
TZOFFSETFROM:+1000
TZOFFSETTO:+1100
TZNAME:AEDT
DTSTART:20251004T160000
END:DAYLIGHT
BEGIN:STANDARD
TZOFFSETFROM:+1100
TZOFFSETTO:+1000
TZNAME:AEST
DTSTART:20260404T160000
END:STANDARD
BEGIN:DAYLIGHT
TZOFFSETFROM:+1000
TZOFFSETTO:+1100
TZNAME:AEDT
DTSTART:20261003T160000
END:DAYLIGHT
BEGIN:STANDARD
TZOFFSETFROM:+1100
TZOFFSETTO:+1000
TZNAME:AEST
DTSTART:20270403T160000
END:STANDARD
BEGIN:DAYLIGHT
TZOFFSETFROM:+1000
TZOFFSETTO:+1100
TZNAME:AEDT
DTSTART:20271002T160000
END:DAYLIGHT
END:VTIMEZONE
BEGIN:VEVENT
DTSTART;TZID=Australia/Melbourne:20260427T133000
DTEND;TZID=Australia/Melbourne:20260427T150000
DTSTAMP:20260421T011733
CREATED:20260420T050335Z
LAST-MODIFIED:20260420T050335Z
UID:10004979-1777296600-1777302000@carersvictoria.org.au
SUMMARY:Wellbeing Workshops for Carers
DESCRIPTION:Wellbeing Workshops for Carers is a free\, 10-week program designed to support carers to focus on their own health and wellbeing in a welcoming\, supportive environment. \nThe weekly sessions use gentle movement\, circus-inspired activities and creative play to reduce stress\, build confidence and encourage connection with others who share similar caring experiences. Sessions are relaxed\, non-competitive and adaptable\, with space to move at your own pace. \nWho is it for? \nThese workshops are for carers aged 18+ of any gender\, including those providing paid or unpaid support to someone with illness\, disability\, mental health needs or age-related frailty. \nNo prior experience is required\, and all activities are tailored to suit different bodies\, abilities\, cultural backgrounds and comfort levels. \nDates: \nWeekly sessions from Monday 20 April – Monday 29 June\, 1:30PM-3pm \n(No workshop on 8 June – King’s Birthday Public Holiday) \nYou can book for in for individual sessions or a package: sessions 1-5 or 6-10. \nWhere: \nWomen’s Circus\, 395 Barkly Street\, Footscray VIC \n  \nPresented by Australian Multicultural Community Services (AMCS) and Women’s Circus.
URL:https://carersvictoria.org.au/event/wellbeing-workshops-for-carers/2026-04-27/
LOCATION:Women’s Circus\, 395 Barkly St\, Footscray\, Victoria\, 3011\, Australia
CATEGORIES:Cultural and linguistically diverse,Events for carers,General,LGBTQIA+
ATTACH;FMTTYPE=image/png:/wp-content/uploads/2026/04/Humanitix-AMCS-banner-scaled.png
ORGANIZER;CN="Women's Circus":MAILTO:info@womenscircus.org.au
GEO:-37.798885;144.8879167
X-APPLE-STRUCTURED-LOCATION;VALUE=URI;X-ADDRESS=Women’s Circus 395 Barkly St Footscray Victoria 3011 Australia;X-APPLE-RADIUS=500;X-TITLE=395 Barkly St:geo:144.8879167,-37.798885
END:VEVENT
BEGIN:VEVENT
DTSTART;TZID=Australia/Melbourne:20260504T133000
DTEND;TZID=Australia/Melbourne:20260504T150000
DTSTAMP:20260421T011733
CREATED:20260420T050335Z
LAST-MODIFIED:20260420T050335Z
UID:10004980-1777901400-1777906800@carersvictoria.org.au
SUMMARY:Wellbeing Workshops for Carers
DESCRIPTION:Wellbeing Workshops for Carers is a free\, 10-week program designed to support carers to focus on their own health and wellbeing in a welcoming\, supportive environment. \nThe weekly sessions use gentle movement\, circus-inspired activities and creative play to reduce stress\, build confidence and encourage connection with others who share similar caring experiences. Sessions are relaxed\, non-competitive and adaptable\, with space to move at your own pace. \nWho is it for? \nThese workshops are for carers aged 18+ of any gender\, including those providing paid or unpaid support to someone with illness\, disability\, mental health needs or age-related frailty. \nNo prior experience is required\, and all activities are tailored to suit different bodies\, abilities\, cultural backgrounds and comfort levels. \nDates: \nWeekly sessions from Monday 20 April – Monday 29 June\, 1:30PM-3pm \n(No workshop on 8 June – King’s Birthday Public Holiday) \nYou can book for in for individual sessions or a package: sessions 1-5 or 6-10. \nWhere: \nWomen’s Circus\, 395 Barkly Street\, Footscray VIC \n  \nPresented by Australian Multicultural Community Services (AMCS) and Women’s Circus.
URL:https://carersvictoria.org.au/event/wellbeing-workshops-for-carers/2026-05-04/
LOCATION:Women’s Circus\, 395 Barkly St\, Footscray\, Victoria\, 3011\, Australia
CATEGORIES:Cultural and linguistically diverse,Events for carers,General,LGBTQIA+
ATTACH;FMTTYPE=image/png:/wp-content/uploads/2026/04/Humanitix-AMCS-banner-scaled.png
ORGANIZER;CN="Women's Circus":MAILTO:info@womenscircus.org.au
GEO:-37.798885;144.8879167
X-APPLE-STRUCTURED-LOCATION;VALUE=URI;X-ADDRESS=Women’s Circus 395 Barkly St Footscray Victoria 3011 Australia;X-APPLE-RADIUS=500;X-TITLE=395 Barkly St:geo:144.8879167,-37.798885
END:VEVENT
BEGIN:VEVENT
DTSTART;TZID=Australia/Melbourne:20260511T133000
DTEND;TZID=Australia/Melbourne:20260511T150000
DTSTAMP:20260421T011733
CREATED:20260420T050335Z
LAST-MODIFIED:20260420T050335Z
UID:10004981-1778506200-1778511600@carersvictoria.org.au
SUMMARY:Wellbeing Workshops for Carers
DESCRIPTION:Wellbeing Workshops for Carers is a free\, 10-week program designed to support carers to focus on their own health and wellbeing in a welcoming\, supportive environment. \nThe weekly sessions use gentle movement\, circus-inspired activities and creative play to reduce stress\, build confidence and encourage connection with others who share similar caring experiences. Sessions are relaxed\, non-competitive and adaptable\, with space to move at your own pace. \nWho is it for? \nThese workshops are for carers aged 18+ of any gender\, including those providing paid or unpaid support to someone with illness\, disability\, mental health needs or age-related frailty. \nNo prior experience is required\, and all activities are tailored to suit different bodies\, abilities\, cultural backgrounds and comfort levels. \nDates: \nWeekly sessions from Monday 20 April – Monday 29 June\, 1:30PM-3pm \n(No workshop on 8 June – King’s Birthday Public Holiday) \nYou can book for in for individual sessions or a package: sessions 1-5 or 6-10. \nWhere: \nWomen’s Circus\, 395 Barkly Street\, Footscray VIC \n  \nPresented by Australian Multicultural Community Services (AMCS) and Women’s Circus.
URL:https://carersvictoria.org.au/event/wellbeing-workshops-for-carers/2026-05-11/
LOCATION:Women’s Circus\, 395 Barkly St\, Footscray\, Victoria\, 3011\, Australia
CATEGORIES:Cultural and linguistically diverse,Events for carers,General,LGBTQIA+
ATTACH;FMTTYPE=image/png:/wp-content/uploads/2026/04/Humanitix-AMCS-banner-scaled.png
ORGANIZER;CN="Women's Circus":MAILTO:info@womenscircus.org.au
GEO:-37.798885;144.8879167
X-APPLE-STRUCTURED-LOCATION;VALUE=URI;X-ADDRESS=Women’s Circus 395 Barkly St Footscray Victoria 3011 Australia;X-APPLE-RADIUS=500;X-TITLE=395 Barkly St:geo:144.8879167,-37.798885
END:VEVENT
BEGIN:VEVENT
DTSTART;TZID=Australia/Melbourne:20260518T133000
DTEND;TZID=Australia/Melbourne:20260518T150000
DTSTAMP:20260421T011733
CREATED:20260420T050335Z
LAST-MODIFIED:20260420T050335Z
UID:10004982-1779111000-1779116400@carersvictoria.org.au
SUMMARY:Wellbeing Workshops for Carers
DESCRIPTION:Wellbeing Workshops for Carers is a free\, 10-week program designed to support carers to focus on their own health and wellbeing in a welcoming\, supportive environment. \nThe weekly sessions use gentle movement\, circus-inspired activities and creative play to reduce stress\, build confidence and encourage connection with others who share similar caring experiences. Sessions are relaxed\, non-competitive and adaptable\, with space to move at your own pace. \nWho is it for? \nThese workshops are for carers aged 18+ of any gender\, including those providing paid or unpaid support to someone with illness\, disability\, mental health needs or age-related frailty. \nNo prior experience is required\, and all activities are tailored to suit different bodies\, abilities\, cultural backgrounds and comfort levels. \nDates: \nWeekly sessions from Monday 20 April – Monday 29 June\, 1:30PM-3pm \n(No workshop on 8 June – King’s Birthday Public Holiday) \nYou can book for in for individual sessions or a package: sessions 1-5 or 6-10. \nWhere: \nWomen’s Circus\, 395 Barkly Street\, Footscray VIC \n  \nPresented by Australian Multicultural Community Services (AMCS) and Women’s Circus.
URL:https://carersvictoria.org.au/event/wellbeing-workshops-for-carers/2026-05-18/
LOCATION:Women’s Circus\, 395 Barkly St\, Footscray\, Victoria\, 3011\, Australia
CATEGORIES:Cultural and linguistically diverse,Events for carers,General,LGBTQIA+
ATTACH;FMTTYPE=image/png:/wp-content/uploads/2026/04/Humanitix-AMCS-banner-scaled.png
ORGANIZER;CN="Women's Circus":MAILTO:info@womenscircus.org.au
GEO:-37.798885;144.8879167
X-APPLE-STRUCTURED-LOCATION;VALUE=URI;X-ADDRESS=Women’s Circus 395 Barkly St Footscray Victoria 3011 Australia;X-APPLE-RADIUS=500;X-TITLE=395 Barkly St:geo:144.8879167,-37.798885
END:VEVENT
BEGIN:VEVENT
DTSTART;TZID=Australia/Melbourne:20260525T133000
DTEND;TZID=Australia/Melbourne:20260525T150000
DTSTAMP:20260421T011733
CREATED:20260420T050335Z
LAST-MODIFIED:20260420T050335Z
UID:10004983-1779715800-1779721200@carersvictoria.org.au
SUMMARY:Wellbeing Workshops for Carers
DESCRIPTION:Wellbeing Workshops for Carers is a free\, 10-week program designed to support carers to focus on their own health and wellbeing in a welcoming\, supportive environment. \nThe weekly sessions use gentle movement\, circus-inspired activities and creative play to reduce stress\, build confidence and encourage connection with others who share similar caring experiences. Sessions are relaxed\, non-competitive and adaptable\, with space to move at your own pace. \nWho is it for? \nThese workshops are for carers aged 18+ of any gender\, including those providing paid or unpaid support to someone with illness\, disability\, mental health needs or age-related frailty. \nNo prior experience is required\, and all activities are tailored to suit different bodies\, abilities\, cultural backgrounds and comfort levels. \nDates: \nWeekly sessions from Monday 20 April – Monday 29 June\, 1:30PM-3pm \n(No workshop on 8 June – King’s Birthday Public Holiday) \nYou can book for in for individual sessions or a package: sessions 1-5 or 6-10. \nWhere: \nWomen’s Circus\, 395 Barkly Street\, Footscray VIC \n  \nPresented by Australian Multicultural Community Services (AMCS) and Women’s Circus.
URL:https://carersvictoria.org.au/event/wellbeing-workshops-for-carers/2026-05-25/
LOCATION:Women’s Circus\, 395 Barkly St\, Footscray\, Victoria\, 3011\, Australia
CATEGORIES:Cultural and linguistically diverse,Events for carers,General,LGBTQIA+
ATTACH;FMTTYPE=image/png:/wp-content/uploads/2026/04/Humanitix-AMCS-banner-scaled.png
ORGANIZER;CN="Women's Circus":MAILTO:info@womenscircus.org.au
GEO:-37.798885;144.8879167
X-APPLE-STRUCTURED-LOCATION;VALUE=URI;X-ADDRESS=Women’s Circus 395 Barkly St Footscray Victoria 3011 Australia;X-APPLE-RADIUS=500;X-TITLE=395 Barkly St:geo:144.8879167,-37.798885
END:VEVENT
BEGIN:VEVENT
DTSTART;TZID=Australia/Melbourne:20260601T133000
DTEND;TZID=Australia/Melbourne:20260601T150000
DTSTAMP:20260421T011733
CREATED:20260420T050335Z
LAST-MODIFIED:20260420T050335Z
UID:10004984-1780320600-1780326000@carersvictoria.org.au
SUMMARY:Wellbeing Workshops for Carers
DESCRIPTION:Wellbeing Workshops for Carers is a free\, 10-week program designed to support carers to focus on their own health and wellbeing in a welcoming\, supportive environment. \nThe weekly sessions use gentle movement\, circus-inspired activities and creative play to reduce stress\, build confidence and encourage connection with others who share similar caring experiences. Sessions are relaxed\, non-competitive and adaptable\, with space to move at your own pace. \nWho is it for? \nThese workshops are for carers aged 18+ of any gender\, including those providing paid or unpaid support to someone with illness\, disability\, mental health needs or age-related frailty. \nNo prior experience is required\, and all activities are tailored to suit different bodies\, abilities\, cultural backgrounds and comfort levels. \nDates: \nWeekly sessions from Monday 20 April – Monday 29 June\, 1:30PM-3pm \n(No workshop on 8 June – King’s Birthday Public Holiday) \nYou can book for in for individual sessions or a package: sessions 1-5 or 6-10. \nWhere: \nWomen’s Circus\, 395 Barkly Street\, Footscray VIC \n  \nPresented by Australian Multicultural Community Services (AMCS) and Women’s Circus.
URL:https://carersvictoria.org.au/event/wellbeing-workshops-for-carers/2026-06-01/
LOCATION:Women’s Circus\, 395 Barkly St\, Footscray\, Victoria\, 3011\, Australia
CATEGORIES:Cultural and linguistically diverse,Events for carers,General,LGBTQIA+
ATTACH;FMTTYPE=image/png:/wp-content/uploads/2026/04/Humanitix-AMCS-banner-scaled.png
ORGANIZER;CN="Women's Circus":MAILTO:info@womenscircus.org.au
GEO:-37.798885;144.8879167
X-APPLE-STRUCTURED-LOCATION;VALUE=URI;X-ADDRESS=Women’s Circus 395 Barkly St Footscray Victoria 3011 Australia;X-APPLE-RADIUS=500;X-TITLE=395 Barkly St:geo:144.8879167,-37.798885
END:VEVENT
BEGIN:VEVENT
DTSTART;TZID=Australia/Melbourne:20260615T133000
DTEND;TZID=Australia/Melbourne:20260615T150000
DTSTAMP:20260421T011733
CREATED:20260420T050335Z
LAST-MODIFIED:20260420T050335Z
UID:10004985-1781530200-1781535600@carersvictoria.org.au
SUMMARY:Wellbeing Workshops for Carers
DESCRIPTION:Wellbeing Workshops for Carers is a free\, 10-week program designed to support carers to focus on their own health and wellbeing in a welcoming\, supportive environment. \nThe weekly sessions use gentle movement\, circus-inspired activities and creative play to reduce stress\, build confidence and encourage connection with others who share similar caring experiences. Sessions are relaxed\, non-competitive and adaptable\, with space to move at your own pace. \nWho is it for? \nThese workshops are for carers aged 18+ of any gender\, including those providing paid or unpaid support to someone with illness\, disability\, mental health needs or age-related frailty. \nNo prior experience is required\, and all activities are tailored to suit different bodies\, abilities\, cultural backgrounds and comfort levels. \nDates: \nWeekly sessions from Monday 20 April – Monday 29 June\, 1:30PM-3pm \n(No workshop on 8 June – King’s Birthday Public Holiday) \nYou can book for in for individual sessions or a package: sessions 1-5 or 6-10. \nWhere: \nWomen’s Circus\, 395 Barkly Street\, Footscray VIC \n  \nPresented by Australian Multicultural Community Services (AMCS) and Women’s Circus.
URL:https://carersvictoria.org.au/event/wellbeing-workshops-for-carers/2026-06-15/
LOCATION:Women’s Circus\, 395 Barkly St\, Footscray\, Victoria\, 3011\, Australia
CATEGORIES:Cultural and linguistically diverse,Events for carers,General,LGBTQIA+
ATTACH;FMTTYPE=image/png:/wp-content/uploads/2026/04/Humanitix-AMCS-banner-scaled.png
ORGANIZER;CN="Women's Circus":MAILTO:info@womenscircus.org.au
GEO:-37.798885;144.8879167
X-APPLE-STRUCTURED-LOCATION;VALUE=URI;X-ADDRESS=Women’s Circus 395 Barkly St Footscray Victoria 3011 Australia;X-APPLE-RADIUS=500;X-TITLE=395 Barkly St:geo:144.8879167,-37.798885
END:VEVENT
BEGIN:VEVENT
DTSTART;TZID=Australia/Melbourne:20260622T133000
DTEND;TZID=Australia/Melbourne:20260622T150000
DTSTAMP:20260421T011733
CREATED:20260420T050335Z
LAST-MODIFIED:20260420T050335Z
UID:10004986-1782135000-1782140400@carersvictoria.org.au
SUMMARY:Wellbeing Workshops for Carers
DESCRIPTION:Wellbeing Workshops for Carers is a free\, 10-week program designed to support carers to focus on their own health and wellbeing in a welcoming\, supportive environment. \nThe weekly sessions use gentle movement\, circus-inspired activities and creative play to reduce stress\, build confidence and encourage connection with others who share similar caring experiences. Sessions are relaxed\, non-competitive and adaptable\, with space to move at your own pace. \nWho is it for? \nThese workshops are for carers aged 18+ of any gender\, including those providing paid or unpaid support to someone with illness\, disability\, mental health needs or age-related frailty. \nNo prior experience is required\, and all activities are tailored to suit different bodies\, abilities\, cultural backgrounds and comfort levels. \nDates: \nWeekly sessions from Monday 20 April – Monday 29 June\, 1:30PM-3pm \n(No workshop on 8 June – King’s Birthday Public Holiday) \nYou can book for in for individual sessions or a package: sessions 1-5 or 6-10. \nWhere: \nWomen’s Circus\, 395 Barkly Street\, Footscray VIC \n  \nPresented by Australian Multicultural Community Services (AMCS) and Women’s Circus.
URL:https://carersvictoria.org.au/event/wellbeing-workshops-for-carers/2026-06-22/
LOCATION:Women’s Circus\, 395 Barkly St\, Footscray\, Victoria\, 3011\, Australia
CATEGORIES:Cultural and linguistically diverse,Events for carers,General,LGBTQIA+
ATTACH;FMTTYPE=image/png:/wp-content/uploads/2026/04/Humanitix-AMCS-banner-scaled.png
ORGANIZER;CN="Women's Circus":MAILTO:info@womenscircus.org.au
GEO:-37.798885;144.8879167
X-APPLE-STRUCTURED-LOCATION;VALUE=URI;X-ADDRESS=Women’s Circus 395 Barkly St Footscray Victoria 3011 Australia;X-APPLE-RADIUS=500;X-TITLE=395 Barkly St:geo:144.8879167,-37.798885
END:VEVENT
BEGIN:VEVENT
DTSTART;TZID=Australia/Melbourne:20260629T133000
DTEND;TZID=Australia/Melbourne:20260629T150000
DTSTAMP:20260421T011733
CREATED:20260420T050335Z
LAST-MODIFIED:20260420T050335Z
UID:10004987-1782739800-1782745200@carersvictoria.org.au
SUMMARY:Wellbeing Workshops for Carers
DESCRIPTION:Wellbeing Workshops for Carers is a free\, 10-week program designed to support carers to focus on their own health and wellbeing in a welcoming\, supportive environment. \nThe weekly sessions use gentle movement\, circus-inspired activities and creative play to reduce stress\, build confidence and encourage connection with others who share similar caring experiences. Sessions are relaxed\, non-competitive and adaptable\, with space to move at your own pace. \nWho is it for? \nThese workshops are for carers aged 18+ of any gender\, including those providing paid or unpaid support to someone with illness\, disability\, mental health needs or age-related frailty. \nNo prior experience is required\, and all activities are tailored to suit different bodies\, abilities\, cultural backgrounds and comfort levels. \nDates: \nWeekly sessions from Monday 20 April – Monday 29 June\, 1:30PM-3pm \n(No workshop on 8 June – King’s Birthday Public Holiday) \nYou can book for in for individual sessions or a package: sessions 1-5 or 6-10. \nWhere: \nWomen’s Circus\, 395 Barkly Street\, Footscray VIC \n  \nPresented by Australian Multicultural Community Services (AMCS) and Women’s Circus.
URL:https://carersvictoria.org.au/event/wellbeing-workshops-for-carers/2026-06-29/
LOCATION:Women’s Circus\, 395 Barkly St\, Footscray\, Victoria\, 3011\, Australia
CATEGORIES:Cultural and linguistically diverse,Events for carers,General,LGBTQIA+
ATTACH;FMTTYPE=image/png:/wp-content/uploads/2026/04/Humanitix-AMCS-banner-scaled.png
ORGANIZER;CN="Women's Circus":MAILTO:info@womenscircus.org.au
GEO:-37.798885;144.8879167
X-APPLE-STRUCTURED-LOCATION;VALUE=URI;X-ADDRESS=Women’s Circus 395 Barkly St Footscray Victoria 3011 Australia;X-APPLE-RADIUS=500;X-TITLE=395 Barkly St:geo:144.8879167,-37.798885
END:VEVENT
END:VCALENDAR