BEGIN:VCALENDAR
VERSION:2.0
PRODID:-//Carers Victoria - ECPv6.15.11//NONSGML v1.0//EN
CALSCALE:GREGORIAN
METHOD:PUBLISH
X-WR-CALNAME:Carers Victoria
X-ORIGINAL-URL:https://carersvictoria.org.au
X-WR-CALDESC:Events for Carers Victoria
REFRESH-INTERVAL;VALUE=DURATION:PT1H
X-Robots-Tag:noindex
X-PUBLISHED-TTL:PT1H
BEGIN:VTIMEZONE
TZID:Australia/Melbourne
BEGIN:STANDARD
TZOFFSETFROM:+1100
TZOFFSETTO:+1000
TZNAME:AEST
DTSTART:20250405T160000
END:STANDARD
BEGIN:DAYLIGHT
TZOFFSETFROM:+1000
TZOFFSETTO:+1100
TZNAME:AEDT
DTSTART:20251004T160000
END:DAYLIGHT
BEGIN:STANDARD
TZOFFSETFROM:+1100
TZOFFSETTO:+1000
TZNAME:AEST
DTSTART:20260404T160000
END:STANDARD
BEGIN:DAYLIGHT
TZOFFSETFROM:+1000
TZOFFSETTO:+1100
TZNAME:AEDT
DTSTART:20261003T160000
END:DAYLIGHT
BEGIN:STANDARD
TZOFFSETFROM:+1100
TZOFFSETTO:+1000
TZNAME:AEST
DTSTART:20270403T160000
END:STANDARD
BEGIN:DAYLIGHT
TZOFFSETFROM:+1000
TZOFFSETTO:+1100
TZNAME:AEDT
DTSTART:20271002T160000
END:DAYLIGHT
END:VTIMEZONE
BEGIN:VEVENT
DTSTART;TZID=Australia/Melbourne:20260428T093000
DTEND;TZID=Australia/Melbourne:20260428T130000
DTSTAMP:20260422T025830
CREATED:20260201T231836Z
LAST-MODIFIED:20260301T213735Z
UID:10003055-1777368600-1777381200@carersvictoria.org.au
SUMMARY:Flourish - Therapeutic Gardening With Melissa
DESCRIPTION:This free program is designed for families and carers. \nGrow and care for beautiful and productive gardens by working with nature. \nA practical introduction to gardening and growing food in urban and shared community spaces. \nParticipants will learn how to observe\, understand and respond to their garden’s natural systems\, building skills that support ongoing\, confident gardening. \nTopics\nThis fortnightly (every second Tuesday) workshop with include 6 different topics and different topic each week. \nSession 1: \n17 February 9:30am-1:00pm: Gardening with nature \nSession 2: \n3 March 9:30am-1:00pm: Soil as the foundation \nSession 3: \n17 March 9:30am-1:00pm: Growing through the seasons \nSession 4: \n31 March 9:30am-1:00pm: From spoil to soil \nSession 5: \n14 April 9:30am-1:00pm: Grow more plants \nSession 6: \n28 April 9:30am-1:00pm: Garden balance and biodiversity
URL:https://carersvictoria.org.au/event/flourish-therapeutic-gardening-with-melissa-3/2026-04-28/
LOCATION:Central Ringwood Community Centre\, Rosewarne Ln\, Ringwood VIC\, Melbourne\, Victoria\, 3134\, Australia
CATEGORIES:Carer Groups,Events for carers,General,Young Carers
ATTACH;FMTTYPE=image/png:/wp-content/uploads/2026/02/16-April-A-beautiful-Mess-28-scaled.png
ORGANIZER;CN="North East Meto Mental Health and Wellbeing Connect":MAILTO:chuck.cheng@accesshc.org.au
GEO:-37.8153496;145.2378376
X-APPLE-STRUCTURED-LOCATION;VALUE=URI;X-ADDRESS=Central Ringwood Community Centre Rosewarne Ln Ringwood VIC Melbourne Victoria 3134 Australia;X-APPLE-RADIUS=500;X-TITLE=Rosewarne Ln\, Ringwood VIC:geo:145.2378376,-37.8153496
END:VEVENT
END:VCALENDAR