BEGIN:VCALENDAR
VERSION:2.0
PRODID:-//Carers Victoria - ECPv6.15.11//NONSGML v1.0//EN
CALSCALE:GREGORIAN
METHOD:PUBLISH
X-WR-CALNAME:Carers Victoria
X-ORIGINAL-URL:https://carersvictoria.org.au
X-WR-CALDESC:Events for Carers Victoria
REFRESH-INTERVAL;VALUE=DURATION:PT1H
X-Robots-Tag:noindex
X-PUBLISHED-TTL:PT1H
BEGIN:VTIMEZONE
TZID:Australia/Melbourne
BEGIN:STANDARD
TZOFFSETFROM:+1100
TZOFFSETTO:+1000
TZNAME:AEST
DTSTART:20250405T160000
END:STANDARD
BEGIN:DAYLIGHT
TZOFFSETFROM:+1000
TZOFFSETTO:+1100
TZNAME:AEDT
DTSTART:20251004T160000
END:DAYLIGHT
BEGIN:STANDARD
TZOFFSETFROM:+1100
TZOFFSETTO:+1000
TZNAME:AEST
DTSTART:20260404T160000
END:STANDARD
BEGIN:DAYLIGHT
TZOFFSETFROM:+1000
TZOFFSETTO:+1100
TZNAME:AEDT
DTSTART:20261003T160000
END:DAYLIGHT
BEGIN:STANDARD
TZOFFSETFROM:+1100
TZOFFSETTO:+1000
TZNAME:AEST
DTSTART:20270403T160000
END:STANDARD
BEGIN:DAYLIGHT
TZOFFSETFROM:+1000
TZOFFSETTO:+1100
TZNAME:AEDT
DTSTART:20271002T160000
END:DAYLIGHT
END:VTIMEZONE
BEGIN:VEVENT
DTSTART;TZID=Australia/Melbourne:20260422T113000
DTEND;TZID=Australia/Melbourne:20260422T130000
DTSTAMP:20260420T183509
CREATED:20251026T222919Z
LAST-MODIFIED:20251222T023653Z
UID:10001833-1776857400-1776862800@carersvictoria.org.au
SUMMARY:Baw Baw Blokes in a caring role -Coffee
DESCRIPTION:Drop in and meet this group of men in a caring role. Share stories\, strategies or just shoot the breeze! \nThis group meets on the 4th Wednesday of the month (except December). Free Lunch or Cuppa on alternate months\, paid for by Carer Programs – Latrobe Community Health Service \nPlease Call Tania 0428 345 025 to register your attendance
URL:https://carersvictoria.org.au/event/baw-baw-blokes-in-a-caring-role-coffee/2026-04-22/
LOCATION:Newmasons Eat Drink Relax\, 34 Mason St\, Warragul\, Victoria\, 3520\, Australia
CATEGORIES:Carer Groups,Cultural and linguistically diverse,Dementia,Disability,Events for carers,First Nations,Men,NDIS,Young Carers
ATTACH;FMTTYPE=image/jpeg:/wp-content/uploads/2025/10/LCHS-Logo_colour-Vertical_blue-text.jpg
ORGANIZER;CN="Latrobe Community Health Services":MAILTO:tania.mitchell@lchs.com.au
GEO:-38.162305;145.9339874
X-APPLE-STRUCTURED-LOCATION;VALUE=URI;X-ADDRESS=Newmasons Eat Drink Relax 34 Mason St Warragul Victoria 3520 Australia;X-APPLE-RADIUS=500;X-TITLE=34 Mason St:geo:145.9339874,-38.162305
END:VEVENT
BEGIN:VEVENT
DTSTART;TZID=Australia/Melbourne:20260527T113000
DTEND;TZID=Australia/Melbourne:20260527T130000
DTSTAMP:20260420T183509
CREATED:20251026T222919Z
LAST-MODIFIED:20251222T023653Z
UID:10001834-1779881400-1779886800@carersvictoria.org.au
SUMMARY:Baw Baw Blokes in a caring role -Coffee
DESCRIPTION:Drop in and meet this group of men in a caring role. Share stories\, strategies or just shoot the breeze! \nThis group meets on the 4th Wednesday of the month (except December). Free Lunch or Cuppa on alternate months\, paid for by Carer Programs – Latrobe Community Health Service \nPlease Call Tania 0428 345 025 to register your attendance
URL:https://carersvictoria.org.au/event/baw-baw-blokes-in-a-caring-role-coffee/2026-05-27/
LOCATION:Newmasons Eat Drink Relax\, 34 Mason St\, Warragul\, Victoria\, 3520\, Australia
CATEGORIES:Carer Groups,Cultural and linguistically diverse,Dementia,Disability,Events for carers,First Nations,Men,NDIS,Young Carers
ATTACH;FMTTYPE=image/jpeg:/wp-content/uploads/2025/10/LCHS-Logo_colour-Vertical_blue-text.jpg
ORGANIZER;CN="Latrobe Community Health Services":MAILTO:tania.mitchell@lchs.com.au
GEO:-38.162305;145.9339874
X-APPLE-STRUCTURED-LOCATION;VALUE=URI;X-ADDRESS=Newmasons Eat Drink Relax 34 Mason St Warragul Victoria 3520 Australia;X-APPLE-RADIUS=500;X-TITLE=34 Mason St:geo:145.9339874,-38.162305
END:VEVENT
BEGIN:VEVENT
DTSTART;TZID=Australia/Melbourne:20260624T113000
DTEND;TZID=Australia/Melbourne:20260624T130000
DTSTAMP:20260420T183509
CREATED:20251026T222919Z
LAST-MODIFIED:20251222T023653Z
UID:10001835-1782300600-1782306000@carersvictoria.org.au
SUMMARY:Baw Baw Blokes in a caring role -Coffee
DESCRIPTION:Drop in and meet this group of men in a caring role. Share stories\, strategies or just shoot the breeze! \nThis group meets on the 4th Wednesday of the month (except December). Free Lunch or Cuppa on alternate months\, paid for by Carer Programs – Latrobe Community Health Service \nPlease Call Tania 0428 345 025 to register your attendance
URL:https://carersvictoria.org.au/event/baw-baw-blokes-in-a-caring-role-coffee/2026-06-24/
LOCATION:Newmasons Eat Drink Relax\, 34 Mason St\, Warragul\, Victoria\, 3520\, Australia
CATEGORIES:Carer Groups,Cultural and linguistically diverse,Dementia,Disability,Events for carers,First Nations,Men,NDIS,Young Carers
ATTACH;FMTTYPE=image/jpeg:/wp-content/uploads/2025/10/LCHS-Logo_colour-Vertical_blue-text.jpg
ORGANIZER;CN="Latrobe Community Health Services":MAILTO:tania.mitchell@lchs.com.au
GEO:-38.162305;145.9339874
X-APPLE-STRUCTURED-LOCATION;VALUE=URI;X-ADDRESS=Newmasons Eat Drink Relax 34 Mason St Warragul Victoria 3520 Australia;X-APPLE-RADIUS=500;X-TITLE=34 Mason St:geo:145.9339874,-38.162305
END:VEVENT
END:VCALENDAR